BEGIN:VCALENDAR
VERSION:2.0
PRODID:-//ChamberMaster//Event Calendar 2.0//EN
METHOD:PUBLISH
X-PUBLISHED-TTL:P3D
REFRESH-INTERVAL:P3D
CALSCALE:GREGORIAN
BEGIN:VEVENT
DTSTART:20160409T210000Z
DTEND:20160410T170000Z
X-MICROSOFT-CDO-ALLDAYEVENT:FALSE
SUMMARY:Family Campout at Estero Llano Grande
DESCRIPTION:Join us for a night under the stars. Camp out with a Park Ranger and experience camping in a safe and enjoyable setting. We provide the tents\, fire\, and entertainment. We will teach you how to start a campfire\, tell ghost stories\, and search for creatures of the night. Air-conditioned cabins will be offered to the first five families.\nYou must call to reserve your spot and space is limited!!!
X-ALT-DESC;FMTTYPE=text/html:<p class="MsoNormal" style="margin: 0in 0in 10pt"><span style="font-size:12px\;"><font color="#000000">Join us for a night under the stars. Camp out with a Park Ranger and experience camping in a safe and enjoyable setting. We provide the tents\, fire\, and entertainment. We will teach you how to start a campfire\, tell ghost stories\, and search for creatures of the night. Air-conditioned cabins will be offered to the first five families.</font></span></p>\n<span style="font-family:arial\;"><span style="font-size: 12px\; "><span style="line-height: 115%\; "><font color="#000000">You must call to reserve your spot and space is limited!!!</font></span></span></span>
LOCATION:3301 S International Blvd Weslaco\, Texas 78596
UID:e.1244.10937
SEQUENCE:3
DTSTAMP:20260423T023234Z
URL:https://business.weslaco.com/events/details/family-campout-at-estero-llano-grande-04-09-2016-10937
END:VEVENT

END:VCALENDAR
