BEGIN:VCALENDAR
VERSION:2.0
PRODID:-//ChamberMaster//Event Calendar 2.0//EN
METHOD:PUBLISH
X-PUBLISHED-TTL:P3D
REFRESH-INTERVAL:P3D
CALSCALE:GREGORIAN
BEGIN:VEVENT
DTSTART:20140628T140000Z
DTEND:20140628T153000Z
X-MICROSOFT-CDO-ALLDAYEVENT:FALSE
SUMMARY:Family Day at Frontera Audubon - Birds
DESCRIPTION:Families are invited to explore RGV birds and become familiar with their characteristics and habits during a new educational program.
X-ALT-DESC;FMTTYPE=text/html:Families are invited to explore RGV birds and become familiar with their characteristics and habits during a new educational program.
LOCATION:Frontera Audubon 1101 S. Texas Blvd. Weslaco\, TX
UID:e.1244.5924
SEQUENCE:3
DTSTAMP:20260424T122827Z
URL:https://business.weslaco.com/events/details/family-day-at-frontera-audubon-birds-06-28-2014-5924
END:VEVENT

END:VCALENDAR
