BEGIN:VCALENDAR
VERSION:2.0
PRODID:-//ChamberMaster//Event Calendar 2.0//EN
METHOD:PUBLISH
X-PUBLISHED-TTL:P3D
REFRESH-INTERVAL:P3D
CALSCALE:GREGORIAN
BEGIN:VEVENT
DTSTART:20140613T000000Z
DTEND:20140613T030000Z
X-MICROSOFT-CDO-ALLDAYEVENT:FALSE
SUMMARY:Family Fun\, Fitness and a Film
DESCRIPTION:Join Knapp Medical Center for a walk an hour prior to the Movies in the Park. Each participant is entered for great prizes including gift cards to Academy Sports and Outdoors.
X-ALT-DESC;FMTTYPE=text/html:Join Knapp Medical Center for a walk an hour prior to the Movies in the Park. Each participant is entered for great prizes including gift cards to Academy Sports and Outdoors.
LOCATION:Weslaco City Park
UID:e.1244.5907
SEQUENCE:3
DTSTAMP:20260424T123127Z
URL:https://business.weslaco.com/events/details/family-fun-fitness-and-a-film-06-12-2014-5907
END:VEVENT

END:VCALENDAR
