BEGIN:VCALENDAR
VERSION:2.0
PRODID:-//ChamberMaster//Event Calendar 2.0//EN
METHOD:PUBLISH
X-PUBLISHED-TTL:P3D
REFRESH-INTERVAL:P3D
CALSCALE:GREGORIAN
BEGIN:VEVENT
DTSTART:20140808T000000Z
DTEND:20140808T030000Z
X-MICROSOFT-CDO-ALLDAYEVENT:FALSE
SUMMARY:Family Fun\, Fitness and a Film
DESCRIPTION:Join Knapp Medical Center for a walk an hour prior to the Movies in the Park. Each participant is entered for great prizes including gift cards to Academy Sports and Outdoors. Tonight's movie "Nacho Libre".
X-ALT-DESC;FMTTYPE=text/html:Join Knapp Medical Center for a walk an hour prior to the Movies in the Park. Each participant is entered for great prizes including gift cards to Academy Sports and Outdoors. Tonight&#39\;s movie &quot\;Nacho Libre&quot\;.
LOCATION:Weslaco City Park
UID:e.1244.5916
SEQUENCE:3
DTSTAMP:20260424T105129Z
URL:https://business.weslaco.com/events/details/family-fun-fitness-and-a-film-08-07-2014-5916
END:VEVENT

END:VCALENDAR
