BEGIN:VCALENDAR
VERSION:2.0
PRODID:-//ChamberMaster//Event Calendar 2.0//EN
METHOD:PUBLISH
X-PUBLISHED-TTL:P3D
REFRESH-INTERVAL:P3D
CALSCALE:GREGORIAN
BEGIN:VEVENT
DTSTART:20180724T230000Z
DTEND:20180725T010000Z
X-MICROSOFT-CDO-ALLDAYEVENT:FALSE
SUMMARY:Family Nights at Frontera Audubon
DESCRIPTION:Unplug and discover the beauty around you. There's no WiFi in the forest\, but you'll find a better connection. We invite you and your family to participate in our Frontera Family Nights Tuesdays at 6 pm starting\, June 5th. Every week we will have a new activity focused on nature with the goal in mind to unplug and explore as a family! This is a free event
X-ALT-DESC;FMTTYPE=text/html:<p><span style="color:black\;"><span style="font-family:georgia\,serif\;"><span style="font-size:10.5pt\;">Unplug and discover the beauty around you. There&#39\;s no WiFi&nbsp\;in the forest\, but you&#39\;ll find a better connection. We invite you and your family to participate in our Frontera Family Nights Tuesdays at 6 pm starting\, June 5th. Every week we will have a new activity focused on nature with the goal in mind to unplug and explore as a family! This is a free event</span></span></span></p>\n
LOCATION:Frontera Audubon 1101 S. Texas Blvd.
UID:e.1244.16926
SEQUENCE:3
DTSTAMP:20260421T042616Z
URL:https://business.weslaco.com/events/details/family-nights-at-frontera-audubon-07-24-2018-16926
END:VEVENT

END:VCALENDAR
