BEGIN:VCALENDAR
VERSION:2.0
PRODID:-//ChamberMaster//Event Calendar 2.0//EN
METHOD:PUBLISH
X-PUBLISHED-TTL:P3D
REFRESH-INTERVAL:P3D
CALSCALE:GREGORIAN
BEGIN:VEVENT
DTSTART:20180626T230000Z
DTEND:20180627T010000Z
X-MICROSOFT-CDO-ALLDAYEVENT:FALSE
SUMMARY:Family Nights at Frontera Audubon
DESCRIPTION:Unplug and discover the beauty around you. There's no WiFi in the forest\, but you'll find a better connection. We invite you and your family to participate in our Frontera Family Nights Tuesdays at 6 pm starting\, June 5th. Every week we will have a new activity focused on nature with the goal in mind to unplug and explore as a family! This is a free event!\n\nJune 12 - Scavenger Hunt\n\nJune 19 - Butterfly Walk\n\nJune 26 - Bird Bingo
X-ALT-DESC;FMTTYPE=text/html:<p><span style="color:black\;"><span style="font-family:georgia\,serif\;"><span style="font-size:10.5pt\;">Unplug and discover the beauty around you. There&#39\;s no WiFi&nbsp\;in the forest\, but you&#39\;ll find a better connection. We invite you and your family to participate in our Frontera Family Nights Tuesdays at 6 pm starting\, June 5th. Every week we will have a new activity focused on nature with the goal in mind to unplug and explore as a family! This is a free event!</span></span></span></p>\n\n<p><span style="color:black\;"><span style="font-family:georgia\,serif\;"><span style="font-size:10.5pt\;">June 12 - Scavenger Hunt<br />\nJune 19 - Butterfly Walk<br />\nJune 26 - Bird Bingo</span></span></span></p>\n
LOCATION:Frontera Audubon 1101 S. Texas Blvd.
UID:e.1244.16910
SEQUENCE:3
DTSTAMP:20260421T062523Z
URL:https://business.weslaco.com/events/details/family-nights-at-frontera-audubon-16910
END:VEVENT

END:VCALENDAR
