BEGIN:VCALENDAR
VERSION:2.0
PRODID:-//ChamberMaster//Event Calendar 2.0//EN
METHOD:PUBLISH
X-PUBLISHED-TTL:P3D
REFRESH-INTERVAL:P3D
CALSCALE:GREGORIAN
BEGIN:VEVENT
DTSTART:20190719T143000Z
DTEND:20190719T200000Z
X-MICROSOFT-CDO-ALLDAYEVENT:FALSE
SUMMARY:Farm Produce Safety Workshop
DESCRIPTION:Are you a military veteran who is farming? What better way to continue your service to our nation than providing high quality food to your community. Food safety is a critical part of any farm operation. This hands-on workshop provides an introduction to food safety for people who grow produce and provides important information you need to know in order to safely sell your products. Registration is FREE and open to military veterans.\n\nReceive a complimentary tool kit (digital food thermometer included)\n\nLearn about Good Agricultural Practices (GAP) and the Food Safety Modernization Act (FSMA)\n\nParticipate in a mock farmers market booth inspection\n\nNetwork with other veterans\n\nLunch is included
X-ALT-DESC;FMTTYPE=text/html:<p>Are you a military veteran who is farming? What better way to continue your service to our nation than providing high quality food to your community. Food safety is a critical part of any farm operation. This hands-on workshop provides an introduction to food safety for people who grow produce and provides important information you need to know in order to safely sell your products. Registration is FREE and open to military veterans.<br />\nReceive a complimentary tool kit (digital food thermometer included)<br />\nLearn about Good Agricultural Practices (GAP) and the Food Safety Modernization Act (FSMA)<br />\nParticipate in a mock farmers market booth inspection<br />\nNetwork with other veterans<br />\nLunch is included</p>\n
LOCATION:2401 E Business 83\, Weslaco\, TX 78596
UID:e.1244.18186
SEQUENCE:3
DTSTAMP:20260420T080307Z
URL:https://business.weslaco.com/events/details/farm-produce-safety-workshop-18186
END:VEVENT

END:VCALENDAR
