BEGIN:VCALENDAR
VERSION:2.0
PRODID:-//ChamberMaster//Event Calendar 2.0//EN
METHOD:PUBLISH
X-PUBLISHED-TTL:P3D
REFRESH-INTERVAL:P3D
CALSCALE:GREGORIAN
BEGIN:VEVENT
DTSTART:20150128T233000Z
DTEND:20150129T023000Z
X-MICROSOFT-CDO-ALLDAYEVENT:FALSE
SUMMARY:Father-Son Football Night at Chick-fil-A
DESCRIPTION:It's a father-son event at Chick-fil-A.  Call 968-8899 to schedule a time.
X-ALT-DESC;FMTTYPE=text/html:It&#39\;s a father-son event at Chick-fil-A. &nbsp\;Call 968-8899 to schedule a time.&nbsp\;&nbsp\;&nbsp\;&nbsp\;
LOCATION:1200 N. Westgate
UID:e.1244.6029
SEQUENCE:3
DTSTAMP:20260424T004019Z
URL:https://business.weslaco.com/events/details/father-son-football-night-at-chick-fil-a-01-28-2015-6029
END:VEVENT

END:VCALENDAR
