BEGIN:VCALENDAR
VERSION:2.0
PRODID:-//ChamberMaster//Event Calendar 2.0//EN
METHOD:PUBLISH
X-PUBLISHED-TTL:P3D
REFRESH-INTERVAL:P3D
CALSCALE:GREGORIAN
BEGIN:VEVENT
DTSTART:20180210T140000Z
DTEND:20180210T220000Z
X-MICROSOFT-CDO-ALLDAYEVENT:FALSE
SUMMARY:First Annual Weslaco 42 Tournament
DESCRIPTION:Calling all 42 players and spectators! Come join the fun at Weslaco's Daily Grind and sign up to compete in the 1st Annual 42 Tournament.\n\n42\, also known as Texas 42\, is a trick-taking game played with a standard set of double six dominoes. 42 is often referred to as the "national game of Texas". Tournaments are held in many towns\, and the State Championship tournament is held annually in Hallettsville\, Texas on the first Saturday of March each year. In 2011 it was designated the official State Domino Game of Texas.
X-ALT-DESC;FMTTYPE=text/html:<p>Calling all 42 players and spectators! Come join the fun at Weslaco&#39\;s Daily Grind and sign up to compete in the 1st Annual 42 Tournament.<br />\n42\, also known as Texas 42\, is a trick-taking game played with a standard set of double six dominoes. 42 is often referred to as the &quot\;national game of Texas&quot\;. Tournaments are held in many towns\, and the State Championship tournament is held annually in Hallettsville\, Texas on the first Saturday of March each year. In 2011 it was designated the official State Domino Game of Texas.<br />\n&nbsp\;</p>\n
LOCATION:Weslaco's Daily Grind 409 S. Missouri
UID:e.1244.14525
SEQUENCE:3
DTSTAMP:20260421T125132Z
URL:https://business.weslaco.com/events/details/first-annual-weslaco-42-tournament-14525
END:VEVENT

END:VCALENDAR
