BEGIN:VCALENDAR
VERSION:2.0
PRODID:-//ChamberMaster//Event Calendar 2.0//EN
METHOD:PUBLISH
X-PUBLISHED-TTL:P3D
REFRESH-INTERVAL:P3D
CALSCALE:GREGORIAN
BEGIN:VEVENT
DTSTART:20131031T210000Z
DTEND:20131031T230000Z
X-MICROSOFT-CDO-ALLDAYEVENT:FALSE
SUMMARY:Fit N Fun Fall Festival
DESCRIPTION:FREE and Open to the Public!     Health Screenings and Education\, Games\, Giveaways and Treats for kids!  Come and participate in a variety of FREE health screenings including a Pulmonary Function Test\, Blood Pressure Screen and much more!  Children are welcome to dress up in their favorie\, non-scary costumes.  Treats will be available.  Children must be accompanied by an adult.
X-ALT-DESC;FMTTYPE=text/html:<h3>\n	FREE and Open to the Public!&nbsp\;&nbsp\;&nbsp\;&nbsp\;&nbsp\;Health Screenings and Education\, Games\, Giveaways and Treats for kids!&nbsp\; Come and participate in a variety of FREE health screenings including a Pulmonary Function Test\, Blood Pressure Screen and much more!&nbsp\; Children are welcome to dress up in their favorie\, <em>non-scary </em>costumes.&nbsp\; Treats will be available.&nbsp\; Children must be accompanied by an adult.</h3>\n
LOCATION:Knapp Conference Center\, 1401 E. Eighth Street\, Weslaco TX
UID:e.1244.4790
SEQUENCE:3
DTSTAMP:20260425T023322Z
URL:https://business.weslaco.com/events/details/fit-n-fun-fall-festival-10-31-2013-4790
END:VEVENT

END:VCALENDAR
