BEGIN:VCALENDAR
VERSION:2.0
PRODID:-//ChamberMaster//Event Calendar 2.0//EN
METHOD:PUBLISH
X-PUBLISHED-TTL:P3D
REFRESH-INTERVAL:P3D
CALSCALE:GREGORIAN
BEGIN:VEVENT
DTSTART:20140305T173000Z
DTEND:20140305T190000Z
X-MICROSOFT-CDO-ALLDAYEVENT:FALSE
SUMMARY:"Five Marketing Pitfalls to Avoid in 2014" presented by ImageHouse Media
DESCRIPTION:
X-ALT-DESC;FMTTYPE=text/html:
LOCATION:
UID:e.1244.5883
SEQUENCE:3
DTSTAMP:20260424T193343Z
URL:https://business.weslaco.com/events/details/five-marketing-pitfalls-to-avoid-in-2014-presented-by-imagehouse-media-03-05-2014-5883
END:VEVENT

END:VCALENDAR
