BEGIN:VCALENDAR
VERSION:2.0
PRODID:-//ChamberMaster//Event Calendar 2.0//EN
METHOD:PUBLISH
X-PUBLISHED-TTL:P3D
REFRESH-INTERVAL:P3D
CALSCALE:GREGORIAN
BEGIN:VEVENT
DTSTART;VALUE=DATE:20230429
DTEND;VALUE=DATE:20230430
TRANSP:TRANSPARENT
X-MICROSOFT-CDO-ALLDAYEVENT:TRUE
SUMMARY:Fly City Classic - CrossFit Competition
DESCRIPTION:CrossFit Fly City will be hosting a CrossFit Competition on 4/29!\n\nDivisions will be Individual and MM Team and FF Team in\n\nFoundations\, Scaled\, and RX. Registration is live on wodify.
X-ALT-DESC;FMTTYPE=text/html:<p>CrossFit Fly City will be hosting a CrossFit Competition on 4/29!<br />\nDivisions will be Individual and MM Team and FF Team in<br />\nFoundations\, Scaled\, and RX. Registration is live on wodify.</p>\n
LOCATION:CrossFit Fly City 805 W. Pike Blvd. Weslaco\, TX 78596
UID:e.1244.21821
SEQUENCE:3
DTSTAMP:20260420T203823Z
URL:https://business.weslaco.com/events/details/fly-city-classic-crossfit-competition-21821
END:VEVENT

END:VCALENDAR
