BEGIN:VCALENDAR
VERSION:2.0
PRODID:-//ChamberMaster//Event Calendar 2.0//EN
METHOD:PUBLISH
X-PUBLISHED-TTL:P3D
REFRESH-INTERVAL:P3D
CALSCALE:GREGORIAN
BEGIN:VEVENT
DTSTART:20140509T150000Z
DTEND:20140509T160000Z
X-MICROSOFT-CDO-ALLDAYEVENT:FALSE
SUMMARY:Fonseca Insurance Ribbon Cutting
DESCRIPTION:
X-ALT-DESC;FMTTYPE=text/html:
LOCATION:1102 S. Airport Dr.\, Ste. A (inside Weslaco Pharmacy)
UID:e.1244.5897
SEQUENCE:3
DTSTAMP:20260424T155511Z
URL:https://business.weslaco.com/events/details/fonseca-insurance-ribbon-cutting-05-09-2014-5897
END:VEVENT

END:VCALENDAR
