BEGIN:VCALENDAR
VERSION:2.0
PRODID:-//ChamberMaster//Event Calendar 2.0//EN
METHOD:PUBLISH
X-PUBLISHED-TTL:P3D
REFRESH-INTERVAL:P3D
CALSCALE:GREGORIAN
BEGIN:VEVENT
DTSTART:20190409T230000Z
DTEND:20190410T003000Z
X-MICROSOFT-CDO-ALLDAYEVENT:FALSE
SUMMARY:Food Park Design Workshop presented by B.U.I.L.D.
DESCRIPTION:Food Park Design Workshop\n\n\n\nThis is a very informative and technical workshop. The workshop is limited to 30 attendees. Please email us at pga@buildrgv.com to apply as a participating guest. Must be in the industry\, either as a land owner (public/private)\, food truck owner\, real estate speculator\, investor or someway related to opening a food truck park.\n\n\n\nWe will discuss the following:\n\n-Site Evaluation/Case Study\n\n-Architectural & Engineering considerations\n\n-Health & Safety\n\n-Codes/Ordinances\n\n-Zoning\n\n-Food Truck Operations\n\n-Other Open Discussion Items\n\n\n\nThe cost to attend for Non-Members is $125 per seat\n\nBUILDrgv & Weslaco Chamber Members is $85\; includes presentation\, networking\, materials\, refreshements.\n\n\n\nMembership link: https://www.joinit.org/o/buildrgv\n\n\n\nLOCATION: The Business - Visitors & Event Center Bldg.\n\nThe previous workshop was well attended by realtors\, archtects\, builders\, engineers\, real estate developers\, lawyers\, food truck operators and business owners.\n\n\n\nFor more information please call (210) 514-2955\n\n\n\nFacebook event page: https://www.facebook.com/events/416087762296591/\n\n\n\nRegistration Tickets: http://bit.ly/2CnWauL
X-ALT-DESC;FMTTYPE=text/html:<span>&nbsp\;Food Park Design Workshop<br />\n<br />\nThis is a very informative and technical workshop. The workshop is limited to 30 attendees. Please email us at pga@buildrgv.com to apply as a participating guest. Must be in the industry\, either as a land owner (public/private)\, food truck owner\, real estate speculator\, investor or someway related to opening a food truck park.<br />\n<br />\nWe will discuss the following:<br />\n-Site Evaluation/Case Study<br />\n-Architectural &amp\; Engineering considerations<br />\n-Health &amp\; Safety<br />\n-Codes/Ordinances<br />\n-Zoning<br />\n-Food Truck Operations<br />\n-Other Open Discussion Items<br />\n<br />\nThe cost to attend for Non-Members is $125 per seat<br />\nBUILDrgv &amp\; Weslaco Chamber Members is $85\; includes presentation\, networking\, materials\, refreshements.<br />\n<br />\nMembership link: <a data-lynx-mode="hover" data-lynx-uri="https://l.facebook.com/l.php?u=https%3A%2F%2Fwww.joinit.org%2Fo%2Fbuildrgv%3Ffbclid%3DIwAR1NizSpqLpXQE9mw63hubDZjsf-Wp1UGa1ZGyyFKYsFZwLKfwG1QWnljuA&amp\;h=AT2V2q7xiVgz110oHWV3_JhQ0zoGSAoGrwA0G2EghXCnjPtvwZZNWMo-VVx8QpVoB0uRP2Oyc0cvzrIs9M57wI_f56ZwQIOwTZqnr7JccwWEe1ypFuzYnMCZROXDgMKAZQ" href="https://www.joinit.org/o/buildrgv?fbclid=IwAR1NizSpqLpXQE9mw63hubDZjsf-Wp1UGa1ZGyyFKYsFZwLKfwG1QWnljuA" rel="nofollow noopener" target="_blank">https://www.joinit.org/o/buildrgv</a><br />\n<br />\nLOCATION: The Business - Visitors &amp\; Event Center Bldg.<br />\nThe previous workshop was well attended by realtors\, archtects\, builders\, engineers\, real estate developers\, lawyers\, food truck operators and business owners.<br />\n<br />\nFor more information please call (210) 514-2955<br />\n<br />\nFacebook event page: <a href="https://www.facebook.com/events/416087762296591/" target="_blank">https://www.facebook.com/events/416087762296591/</a><br />\n<br />\nRegistration Tickets: <a data-lynx-mode="hover" data-lynx-uri="https://l.facebook.com/l.php?u=https%3A%2F%2Fbit.ly%2F2CnWauL%3Ffbclid%3DIwAR0qTps93EkZXUqZ5eZKaL9o9QPTJft0NTIpjFLbHIbnlks4GSeBjbi4a_w&amp\;h=AT0BHYFeaDSQNE2VnwQzj0vkHi7dmQ7joRlMufdlg9kFWQvqJicgOOADerb_c0W4wWSN7uW_x_4AXuyiGH-VlK2eMMdlPyt-c6RWBNa8Do8xEo_oF5u4SOxYcOuJ7vQzOg" href="https://bit.ly/2CnWauL?fbclid=IwAR0qTps93EkZXUqZ5eZKaL9o9QPTJft0NTIpjFLbHIbnlks4GSeBjbi4a_w" rel="nofollow noopener" target="_blank">http://bit.ly/2CnWauL</a></span>
LOCATION:Business Visitor & Event Center 275 S. Kansas
UID:e.1244.18049
SEQUENCE:3
DTSTAMP:20260420T144116Z
URL:https://business.weslaco.com/events/details/food-park-design-workshop-presented-by-b-u-i-l-d-18049
END:VEVENT

END:VCALENDAR
