BEGIN:VCALENDAR
VERSION:2.0
PRODID:-//ChamberMaster//Event Calendar 2.0//EN
METHOD:PUBLISH
X-PUBLISHED-TTL:P3D
REFRESH-INTERVAL:P3D
CALSCALE:GREGORIAN
BEGIN:VEVENT
DTSTART:20170922T140000Z
DTEND:20170922T160000Z
X-MICROSOFT-CDO-ALLDAYEVENT:FALSE
SUMMARY:Free Car Seat Safety Check at Knapp Medical Center
DESCRIPTION:Parents in the Mid-Valley can get their child's car seat checked for safety at no charge Friday\, September 22\, from 9 a.m. to 11 a.m. in the Knapp Conference Center parking lot\, 700 Knapp Medical Boulevard (adjacent to Isaac Rodriguez Park) in Weslaco. For more information\, please call  (956) 973-5350.
X-ALT-DESC;FMTTYPE=text/html:<span style="color:black\;"><span style="font-family:arial\,sans-serif\;"><span style="font-size:12.0pt\;">Parents in the Mid-Valley can get their child&rsquo\;s car seat checked for safety at no charge Friday\, September 22\, from 9 a.m. to 11 a.m. in the Knapp Conference Center parking lot\, 700 Knapp Medical Boulevard (adjacent to Isaac Rodriguez Park) in Weslaco. For more information\, please call&nbsp\; (956) 973-5350.&nbsp\; </span></span></span><br />\n&nbsp\;
LOCATION:Knapp Conference Center 700 Knapp Medical Blvd.
UID:e.1244.14395
SEQUENCE:3
DTSTAMP:20260421T203446Z
URL:https://business.weslaco.com/events/details/free-car-seat-safety-check-at-knapp-medical-center-14395
END:VEVENT

END:VCALENDAR
