BEGIN:VCALENDAR
VERSION:2.0
PRODID:-//ChamberMaster//Event Calendar 2.0//EN
METHOD:PUBLISH
X-PUBLISHED-TTL:P3D
REFRESH-INTERVAL:P3D
CALSCALE:GREGORIAN
BEGIN:VEVENT
DTSTART:20180720T150000Z
DTEND:20180720T170000Z
X-MICROSOFT-CDO-ALLDAYEVENT:FALSE
SUMMARY:Free Car Seat Safety Check at Knapp Medical Center
DESCRIPTION:Parents in the Mid-Valley can get their child's car seat checked for safety at no charge Friday\, July 20 from 10 am to 12 pm in the parking lot near the Knapp Medical Center outpatient entrance (on James Street at E. 7th Street\, near the yellow-colored entrance to the hospital) in Weslaco. For more information\, please call  (956) 973-5350.
X-ALT-DESC;FMTTYPE=text/html:<span style="color:black\;"><span style="font-family:arial\,sans-serif\;"><span style="font-size:12.0pt\;">Parents in the Mid-Valley can get their child&rsquo\;s car seat checked for safety at no charge Friday\, July 20 from 10 am to 12 pm in the parking lot near the Knapp Medical Center outpatient entrance (on James Street at E. 7<sup>th</sup> Street\, near the yellow-colored entrance to the hospital) in Weslaco. For more information\, please call&nbsp\; (956) 973-5350.&nbsp\; </span></span></span><br />\n&nbsp\;
LOCATION:Knapp Medical Center
UID:e.1244.16943
SEQUENCE:3
DTSTAMP:20260421T044407Z
URL:https://business.weslaco.com/events/details/free-car-seat-safety-check-at-knapp-medical-center-16943
END:VEVENT

END:VCALENDAR
