BEGIN:VCALENDAR
VERSION:2.0
PRODID:-//ChamberMaster//Event Calendar 2.0//EN
METHOD:PUBLISH
X-PUBLISHED-TTL:P3D
REFRESH-INTERVAL:P3D
CALSCALE:GREGORIAN
BEGIN:VEVENT
DTSTART:20180619T230000Z
DTEND:20180620T003000Z
X-MICROSOFT-CDO-ALLDAYEVENT:FALSE
SUMMARY:Free Hernia Screenings by South Texas Health System
DESCRIPTION:
X-ALT-DESC;FMTTYPE=text/html:
LOCATION:Weslaco Business Visitor & Event Center 275 S. Kansas
UID:e.1244.16907
SEQUENCE:3
DTSTAMP:20260421T060053Z
URL:https://business.weslaco.com/events/details/free-hernia-screenings-by-south-texas-health-system-16907
END:VEVENT

END:VCALENDAR
