BEGIN:VCALENDAR
VERSION:2.0
PRODID:-//ChamberMaster//Event Calendar 2.0//EN
METHOD:PUBLISH
X-PUBLISHED-TTL:P3D
REFRESH-INTERVAL:P3D
CALSCALE:GREGORIAN
BEGIN:VEVENT
DTSTART;VALUE=DATE:20141111
DTEND;VALUE=DATE:20141112
TRANSP:TRANSPARENT
X-MICROSOFT-CDO-ALLDAYEVENT:TRUE
SUMMARY:Free Meals for Veterans at Applebee's
DESCRIPTION:For the past six years\, Applebee's has been thanking our Veterans and active duty military by providing nearly a million free meals annually on Veterans Day. Please join us again for our 7th year of Thank You's. For details go to www.Thankyoumovement.com.
X-ALT-DESC;FMTTYPE=text/html:For the past six years\, Applebee&rsquo\;s has been thanking our Veterans and active duty military by providing nearly a million free meals annually on Veterans Day. Please join us again for our 7th year of Thank You&#39\;s. For details go to www.Thankyoumovement.com.&nbsp\;
LOCATION:1829 W. Expressway 83 Weslaco\, TX 78596
UID:e.1244.5979
SEQUENCE:3
DTSTAMP:20260424T034037Z
URL:https://business.weslaco.com/events/details/free-meals-for-veterans-at-applebee-s-11-11-2014-5979
END:VEVENT

END:VCALENDAR
