BEGIN:VCALENDAR
VERSION:2.0
PRODID:-//ChamberMaster//Event Calendar 2.0//EN
METHOD:PUBLISH
X-PUBLISHED-TTL:P3D
REFRESH-INTERVAL:P3D
CALSCALE:GREGORIAN
BEGIN:VEVENT
DTSTART:20200104T160000Z
DTEND:20200104T220000Z
X-MICROSOFT-CDO-ALLDAYEVENT:FALSE
SUMMARY:Free Saturday at the Museum
DESCRIPTION:Free admission all day at the Weslaco Museum\, first Saturday of every month!
X-ALT-DESC;FMTTYPE=text/html:Free admission all day at the Weslaco Museum\, first Saturday of every month!
LOCATION:Weslaco Museum 500 S. Texas Blvd.
UID:e.1244.19055
SEQUENCE:3
DTSTAMP:20260419T215136Z
URL:https://business.weslaco.com/events/details/free-saturday-at-the-museum-19055
END:VEVENT

END:VCALENDAR
