BEGIN:VCALENDAR
VERSION:2.0
PRODID:-//ChamberMaster//Event Calendar 2.0//EN
METHOD:PUBLISH
X-PUBLISHED-TTL:P3D
REFRESH-INTERVAL:P3D
CALSCALE:GREGORIAN
BEGIN:VEVENT
DTSTART:20141211T160000Z
DTEND:20141211T200000Z
X-MICROSOFT-CDO-ALLDAYEVENT:FALSE
SUMMARY:Frontera Audubon Holiday Open House
DESCRIPTION:Enjoy thicket tours\, handmade items\, baked goods and refreshments. Admission is free!
X-ALT-DESC;FMTTYPE=text/html:Enjoy thicket tours\, handmade items\, baked goods and refreshments. Admission is free!
LOCATION:Frontera Audubon 1101 S. TExas
UID:e.1244.6010
SEQUENCE:3
DTSTAMP:20260424T033832Z
URL:https://business.weslaco.com/events/details/frontera-audubon-holiday-open-house-12-11-2014-6010
END:VEVENT

END:VCALENDAR
