BEGIN:VCALENDAR
VERSION:2.0
PRODID:-//ChamberMaster//Event Calendar 2.0//EN
METHOD:PUBLISH
X-PUBLISHED-TTL:P3D
REFRESH-INTERVAL:P3D
CALSCALE:GREGORIAN
BEGIN:VEVENT
DTSTART:20170720T233000Z
DTEND:20170721T003000Z
X-MICROSOFT-CDO-ALLDAYEVENT:FALSE
SUMMARY:Frontera Audubon Neighborhood Night
DESCRIPTION:Join Frontera on a night out on the lawn for some refreshments\, snacks\, and fun games for the kids! Get to know Frontera Audubon and what it is they have to offer.
X-ALT-DESC;FMTTYPE=text/html:Join Frontera on a night out on the lawn for some refreshments\, snacks\, and fun games for the kids! Get to know Frontera Audubon and what it is they have to offer.
LOCATION:Frontera Audubon 1101 S. Texas\, Weslaco
UID:e.1244.12773
SEQUENCE:3
DTSTAMP:20260421T234741Z
URL:https://business.weslaco.com/events/details/frontera-audubon-neighborhood-night-12773
END:VEVENT

END:VCALENDAR
