BEGIN:VCALENDAR
VERSION:2.0
PRODID:-//ChamberMaster//Event Calendar 2.0//EN
METHOD:PUBLISH
X-PUBLISHED-TTL:P3D
REFRESH-INTERVAL:P3D
CALSCALE:GREGORIAN
BEGIN:VEVENT
DTSTART:20140509T000000Z
DTEND:20140509T030000Z
X-MICROSOFT-CDO-ALLDAYEVENT:FALSE
SUMMARY:Frontera Audubon's Dine on the Lawn
DESCRIPTION:Excite your palette and support habitat for birds during Dine on the Lawn at Frontera Audubon Society. Distinguished TCA\, Rio Grande Valley chefs will prepare gourmet courses using sustainable ingredients paired with fine wine. Live music by Ani and the Starlight Band.
X-ALT-DESC;FMTTYPE=text/html:<div style="color: gray"><span style="color: #000000"><span style="font-family: arial"><span style="language: en-us">Excite your palette and support habitat for birds during Dine on the </span><span style="language: en-us">Lawn at Frontera Audubon Society. Distinguished TCA\, Rio Grande Valley chefs will prepare gourmet courses using sustainable ingredients paired with fine wine. Live music by Ani and the Starlight Band.</span></span></span></div>\n
LOCATION:Frontera Audubon Society 1101 S. Texas Blvd.
UID:e.1244.5896
SEQUENCE:3
DTSTAMP:20260424T141546Z
URL:https://business.weslaco.com/events/details/frontera-audubon-s-dine-on-the-lawn-05-08-2014-5896
END:VEVENT

END:VCALENDAR
