BEGIN:VCALENDAR
VERSION:2.0
PRODID:-//ChamberMaster//Event Calendar 2.0//EN
METHOD:PUBLISH
X-PUBLISHED-TTL:P3D
REFRESH-INTERVAL:P3D
CALSCALE:GREGORIAN
BEGIN:VEVENT
DTSTART:20180504T000000Z
DTEND:20180504T020000Z
X-MICROSOFT-CDO-ALLDAYEVENT:FALSE
SUMMARY:Frontera Audubon's Dine on the Lawn
DESCRIPTION:Fiesta Frontera! Distinguished Rio Grande Valley chefs will prepare delicious food. Enjoy live music\, a silent auction\, drinks and more!
X-ALT-DESC;FMTTYPE=text/html:<div style="color: gray"><span style="color: #000000"><span style="font-family: arial"><span style="language: en-us">Fiesta Frontera! </span><span style="language: en-us">Distinguished Rio Grande Valley chefs will prepare delicious food. Enjoy live music\, a silent auction\, drinks and more!</span></span></span></div>\n
LOCATION:Frontera Audubon Society 1101 S. Texas Blvd.
UID:e.1244.16862
SEQUENCE:3
DTSTAMP:20260421T074754Z
URL:https://business.weslaco.com/events/details/frontera-audubon-s-dine-on-the-lawn-16862
END:VEVENT

END:VCALENDAR
