BEGIN:VCALENDAR
VERSION:2.0
PRODID:-//ChamberMaster//Event Calendar 2.0//EN
METHOD:PUBLISH
X-PUBLISHED-TTL:P3D
REFRESH-INTERVAL:P3D
CALSCALE:GREGORIAN
BEGIN:VEVENT
DTSTART:20190426T000000Z
DTEND:20190426T020000Z
X-MICROSOFT-CDO-ALLDAYEVENT:FALSE
SUMMARY:Frontera Audubon's Dine on the Lawn
DESCRIPTION:Frontera Audubon presents Dine on the Lawn: Inspired by India! on Thursday\, April 25\, 2019 at 7 p.m. In its eighth year\, the event will feature all things India. There will be a silent auction\, authentic Indian cuisine\, great drinks\, a photo booth and wonderful company! Join us for an enchanting evening.\n\n\n\nTickets can be purchased by following the ticket url on this event\, or by visiting Fronteraaudubon.org and purchasing through the PayPal link under our Dine on the Lawn section.
X-ALT-DESC;FMTTYPE=text/html:<div style="color: gray"><span>Frontera Audubon presents Dine on the Lawn: Inspired by India! on Thursday\, April 25\, 2019 at 7 p.m. In its eighth year\, the event will feature all things India. There will be a silent auction\, authentic Indian cuisine\, great drinks\, a photo booth and wonderful company! Join us for an enchanting evening.<br />\n<br />\nTickets can be purchased by following the ticket url on this event\, or by visiting <a data-lynx-mode="hover" href="https://l.facebook.com/l.php?u=http%3A%2F%2FFronteraaudubon.org%2F%3Ffbclid%3DIwAR1vBw8oUc1fO8wVU0FutrlgqBVH23A2KH01Z9lXf03o1ycO7gKwcGaDHGY&amp\;h=AT3fxguS4zgim0xf5RUEUf7L7xMLk7aqXdTPkRTUXQthV4BKr3n4flZNx6727i8KAYFrwlSXinP9jZtTRiU7-_BIqDIuC7x9m75ABabS8ZqNWyz08HbnkHQ8IpDxYQDhFw" rel="nofollow noopener" target="_blank">Fronteraaudubon.org</a><a href="http://fronteraaudubon.org"> </a>and purchasing through the PayPal link under our Dine on the Lawn section. </span></div>\n
LOCATION:Frontera Audubon Society 1101 S. Texas Blvd.
UID:e.1244.18127
SEQUENCE:3
DTSTAMP:20260420T131447Z
URL:https://business.weslaco.com/events/details/frontera-audubon-s-dine-on-the-lawn-18127
END:VEVENT

END:VCALENDAR
