BEGIN:VCALENDAR
VERSION:2.0
PRODID:-//ChamberMaster//Event Calendar 2.0//EN
METHOD:PUBLISH
X-PUBLISHED-TTL:P3D
REFRESH-INTERVAL:P3D
CALSCALE:GREGORIAN
BEGIN:VEVENT
DTSTART:20140726T150000Z
DTEND:20140726T163000Z
X-MICROSOFT-CDO-ALLDAYEVENT:FALSE
SUMMARY:Frontera Audubon's Family Day
DESCRIPTION:Calling all families! Come discover what makes a habitat during Family Day at Frontera Audubon   Habitats. The program cost is $2 per child and free for accompanying adults. The program\, open to all ages\, includes a story\, a craft\, a habitat game\, and a guided walk through the Thicket featuring a habitat scavenger hunt.
X-ALT-DESC;FMTTYPE=text/html:Calling all families! Come discover what makes a habitat during <em>Family Day at Frontera Audubon &ndash\; Habitats.&nbsp\;</em>The program cost is $2 per child and free for accompanying adults. The program\, open to all ages\, includes a story\, a craft\, a habitat game\, and a guided walk through the Thicket featuring a habitat scavenger hunt.
LOCATION:1101 S. Texas Blvd.
UID:e.1244.5934
SEQUENCE:3
DTSTAMP:20260424T104415Z
URL:https://business.weslaco.com/events/details/frontera-audubon-s-family-day-07-26-2014-5934
END:VEVENT

END:VCALENDAR
