BEGIN:VCALENDAR
VERSION:2.0
PRODID:-//ChamberMaster//Event Calendar 2.0//EN
METHOD:PUBLISH
X-PUBLISHED-TTL:P3D
REFRESH-INTERVAL:P3D
CALSCALE:GREGORIAN
BEGIN:VEVENT
DTSTART:20191006T000000Z
DTEND:20191006T020000Z
X-MICROSOFT-CDO-ALLDAYEVENT:FALSE
SUMMARY:Frontera Fest
DESCRIPTION:Join us for beer\, kombucha\, delicious food (vegan options available)\, music\, games\, and a good time!\n\nTickets available at Valley Trophies\, Holiday Inn Express\, and Frontera Audubon in Weslaco. $25\n\nDon't miss out on all the fun! For more info give us a call: 956.968.3275
X-ALT-DESC;FMTTYPE=text/html:<p style="margin: 0px 0px 6px\; font-family: Helvetica\, Arial\, sans-serif\; color: rgb(29\, 33\, 41)\; font-size: 14px\;">Join us for beer\, kombucha\, delicious food (vegan options available)\, music\, games\, and a good time!</p>\n\n<p style="margin: 6px 0px\; font-family: Helvetica\, Arial\, sans-serif\; color: rgb(29\, 33\, 41)\; font-size: 14px\;">Tickets available at Valley Trophies\, Holiday Inn Express\, and Frontera Audubon in Weslaco. $25</p>\n\n<p style="margin: 6px 0px\; font-family: Helvetica\, Arial\, sans-serif\; color: rgb(29\, 33\, 41)\; font-size: 14px\;">Don&#39\;t miss out on all the fun! For more info give us a call: 956.968.3275</p>\n
LOCATION:Frontera Audubon 1101 S. Texas Weslaco\, TX
UID:e.1244.18773
SEQUENCE:3
DTSTAMP:20260420T025327Z
URL:https://business.weslaco.com/events/details/frontera-fest-18773
END:VEVENT

END:VCALENDAR
