BEGIN:VCALENDAR
VERSION:2.0
PRODID:-//ChamberMaster//Event Calendar 2.0//EN
METHOD:PUBLISH
X-PUBLISHED-TTL:P3D
REFRESH-INTERVAL:P3D
CALSCALE:GREGORIAN
BEGIN:VEVENT
DTSTART:20170112T230000Z
DTEND:20170113T030000Z
X-MICROSOFT-CDO-ALLDAYEVENT:FALSE
SUMMARY:Frontera Fundraiser at Chipotle Mexican Grill
DESCRIPTION:Make dinner a selfless act by joining in on a fundraiser to support Frontera Audubon Nature Park. From 5 pm to 9 pm\, the Weslaco Chipotle will be donating 50% of all sales to Frontera Audubon. You must tell the cashier you're supporting the cause!
X-ALT-DESC;FMTTYPE=text/html:Make dinner a selfless act by joining in on a fundraiser to support Frontera Audubon Nature Park. From 5 pm to 9 pm\, the Weslaco Chipotle will be donating 50% of all sales to Frontera Audubon. You must tell the cashier you&#39\;re supporting the cause!
LOCATION:Chipotle Mexican Grill 1919 W. US Expressway 83\, Ste. 100 Weslaco\, TX
UID:e.1244.11509
SEQUENCE:3
DTSTAMP:20260422T101831Z
URL:https://business.weslaco.com/events/details/frontera-fundraiser-at-chipotle-mexican-grill-11509
END:VEVENT

END:VCALENDAR
