BEGIN:VCALENDAR
VERSION:2.0
PRODID:-//ChamberMaster//Event Calendar 2.0//EN
METHOD:PUBLISH
X-PUBLISHED-TTL:P3D
REFRESH-INTERVAL:P3D
CALSCALE:GREGORIAN
BEGIN:VEVENT
DTSTART:20150625T163000Z
DTEND:20150625T180000Z
X-MICROSOFT-CDO-ALLDAYEVENT:FALSE
SUMMARY:Frost Bank Fraud Seminar
DESCRIPTION:Frost Bank invites you to attend "Protecting Your Company from Fraud"\, presented by Sandy Sullivan\, Frost Fraud Management and Bertha Suarez\, Frost Corporate Banking.  Special guest speaker is Ernesto Garcia\, Federal Bureau of Investigation and First Data Account Executive.  Lunch will be provided and door prizes awarded.
X-ALT-DESC;FMTTYPE=text/html:Frost Bank invites you to attend &quot\;Protecting Your Company from Fraud&quot\;\, presented by Sandy Sullivan\, Frost Fraud Management and Bertha Suarez\, Frost Corporate Banking. &nbsp\;Special guest speaker is Ernesto Garcia\, Federal Bureau of Investigation and First Data Account Executive. &nbsp\;Lunch will be provided and door prizes awarded.&nbsp\;
LOCATION:Business Visitor Center 275 S. Kansas
UID:e.1244.6688
SEQUENCE:3
DTSTAMP:20260423T162404Z
URL:https://business.weslaco.com/events/details/frost-bank-fraud-seminar-06-25-2015-6688
END:VEVENT

END:VCALENDAR
