BEGIN:VCALENDAR
VERSION:2.0
PRODID:-//ChamberMaster//Event Calendar 2.0//EN
METHOD:PUBLISH
X-PUBLISHED-TTL:P3D
REFRESH-INTERVAL:P3D
CALSCALE:GREGORIAN
BEGIN:VEVENT
DTSTART:20200305T233000Z
DTEND:20200306T013000Z
X-MICROSOFT-CDO-ALLDAYEVENT:FALSE
SUMMARY:Frost Bank Grand Opening
DESCRIPTION:Join us as we celebrate the grand opening of the new Frost Bank in Weslaco. In addition\, there will be a special presentation for the Aurora House Foundation.
X-ALT-DESC;FMTTYPE=text/html:Join us as we celebrate the grand opening of the new Frost Bank in Weslaco. In addition\, there will be a special presentation for the Aurora House Foundation.
LOCATION:1010 N. Westgate Dr. Weslaco\, TX 78596
UID:e.1244.19335
SEQUENCE:3
DTSTAMP:20260419T183352Z
URL:https://business.weslaco.com/events/details/frost-bank-grand-opening-19335
END:VEVENT

END:VCALENDAR
