BEGIN:VCALENDAR
VERSION:2.0
PRODID:-//ChamberMaster//Event Calendar 2.0//EN
METHOD:PUBLISH
X-PUBLISHED-TTL:P3D
REFRESH-INTERVAL:P3D
CALSCALE:GREGORIAN
BEGIN:VEVENT
DTSTART:20200111T010000Z
DTEND:20200111T030000Z
X-MICROSOFT-CDO-ALLDAYEVENT:FALSE
SUMMARY:Full Moon Hike at Estero Llano Grande
DESCRIPTION:Join our guides on a night time journey of mystery and excitement to find the creatures of the night.  Search for scorpions\, track trantulas\, all eyes on the alligators\, and go on an owl prowl.
X-ALT-DESC;FMTTYPE=text/html:<span style="font-family:arial\;">Join our guides on a night time journey of mystery and excitement to find the creatures of the night. &nbsp\;Search for scorpions\, track trantulas\, all eyes on the alligators\, and go on an owl prowl.</span><br />\n&nbsp\;
LOCATION:Estero Llano Grande State Park
UID:e.1244.19052
SEQUENCE:3
DTSTAMP:20260419T214943Z
URL:https://business.weslaco.com/events/details/full-moon-hike-at-estero-llano-grande-19052
END:VEVENT

END:VCALENDAR
