BEGIN:VCALENDAR
VERSION:2.0
PRODID:-//ChamberMaster//Event Calendar 2.0//EN
METHOD:PUBLISH
X-PUBLISHED-TTL:P3D
REFRESH-INTERVAL:P3D
CALSCALE:GREGORIAN
BEGIN:VEVENT
DTSTART:20190817T010000Z
DTEND:20190817T030000Z
X-MICROSOFT-CDO-ALLDAYEVENT:FALSE
SUMMARY:Full Moon Party
DESCRIPTION:An especially kid-friendly Ranger-led hike which may include stargazing\, owls\, scorpions\, tarantulas\, alligators\, frogs\, bats and more!\n\n\n\nYou've seen the Park in the daytime\, now see it at night. You never know what may happen but plans include:\n\n  spider-sniffing (maybe even tarantulas!)\n\n  scorpions glowing under black lights\n\n  pauraques (night birds seen nowhere else in the US except South Texas)\n\n  alligator eyes glowing red in the night\n\n  the features on the full moon\, including the Sea of Tranquility where Apollo 11 astronauts first walked on the moon.\n\n  creatures of the night. anything is possible including armadillos\, owls\, frogs\, bobcats\, snakes\, bats...\n\nMeet on the deck just outside the Park Store. Suitable for all ages. Free with park admission (bobcats\, snakes\, bats...\n\nMeet on the deck just outside the Park Store. Suitable for all ages. Free with park admission ($5 for adults\, kids 12-and-under free).
X-ALT-DESC;FMTTYPE=text/html:<span>An especially kid-friendly Ranger-led hike which may include stargazing\, owls\, scorpions\, tarantulas\, alligators\, frogs\, bats and more!<br />\n<br />\nYou&#39\;ve seen the Park in the daytime\, now see it at night. You never know what may happen but plans include:<br />\n&bull\; spider-sniffing (maybe even tarantulas!)<br />\n&bull\; scorpions glowing under black lights<br />\n&bull\; pauraques (night birds seen nowhere else in the US except South Texas)<br />\n&bull\; alligator eyes glowing red in the night<br />\n&bull\; the features on the full moon\, including the Sea of Tranquility where Apollo 11 astronauts first walked on the moon.<br />\n&bull\; creatures of the night. anything is possible including armadillos\, owls\, frogs\, bobcats\, snakes\, bats...<br />\nMeet on the deck just outside the Park Store. Suitable for all ages. Free with park admission (</span><span>bobcats\, snakes\, bats...<br />\nMeet on the deck just outside the Park Store. Suitable for all ages. Free with park admission (</span><span>$5 for adults\, kids 12-and-under free).</span>
LOCATION:Estero Llano Grande State Park 154 Lakeview Dr Ste A\, Weslaco\, Texas 78596
UID:e.1244.18737
SEQUENCE:3
DTSTAMP:20260420T062105Z
URL:https://business.weslaco.com/events/details/full-moon-party-18737
END:VEVENT

END:VCALENDAR
