BEGIN:VCALENDAR
VERSION:2.0
PRODID:-//ChamberMaster//Event Calendar 2.0//EN
METHOD:PUBLISH
X-PUBLISHED-TTL:P3D
REFRESH-INTERVAL:P3D
CALSCALE:GREGORIAN
BEGIN:VEVENT
DTSTART:20140619T140000Z
DTEND:20140619T170000Z
X-MICROSOFT-CDO-ALLDAYEVENT:FALSE
SUMMARY:Geocaching 101 at Estero Llano Grande State Park
DESCRIPTION:Do you like treasure hunting? Would you like to do it in a modern style? Come and join us for a fun and exciting way to find a geocache in the park.  Bring a GPS unit or a smartphone.  The park has GPS units for rent!
X-ALT-DESC;FMTTYPE=text/html:Do you like treasure hunting? Would you like to do it in a modern style? Come and join us for a fun and exciting way to find a geocache in the park. &nbsp\;Bring a GPS unit or a smartphone. &nbsp\;The park has GPS units for rent!&nbsp\;&nbsp\;&nbsp\;&nbsp\;
LOCATION:Estero Llano Grande State Park 3301 S. International Blvd\, Weslaco\, TX
UID:e.1244.5919
SEQUENCE:3
DTSTAMP:20260424T140936Z
URL:https://business.weslaco.com/events/details/geocaching-101-at-estero-llano-grande-state-park-06-19-2014-5919
END:VEVENT

END:VCALENDAR
