BEGIN:VCALENDAR
VERSION:2.0
PRODID:-//ChamberMaster//Event Calendar 2.0//EN
METHOD:PUBLISH
X-PUBLISHED-TTL:P3D
REFRESH-INTERVAL:P3D
CALSCALE:GREGORIAN
BEGIN:VEVENT
DTSTART:20150405T190000Z
DTEND:20150405T200000Z
X-MICROSOFT-CDO-ALLDAYEVENT:FALSE
SUMMARY:Golden Easter Eggs at Valley Nature Center's Easter Egg Hunt!
DESCRIPTION:Golden Easter Eggs at Valley Nature Center's Easter Egg Hunt! Valley Nature center trails will be filled with colorful Easter eggs\, some of them "Golden". Lots of goodies for all! Valley Nature Center's trails are wheelchair and scooter friendly. Bring your camera\, Bring a friend\, Make a memory.
X-ALT-DESC;FMTTYPE=text/html:Golden Easter Eggs at Valley Nature Center&#39\;s Easter Egg Hunt!&nbsp\;Valley Nature center trails will be filled with colorful Easter eggs\, some of them &quot\;Golden&quot\;. Lots of goodies for all! Valley Nature Center&#39\;s trails are wheelchair and scooter friendly. Bring your camera\, Bring a friend\, Make a memory.
LOCATION:Valley Nature Center 301 South Border Ave.
UID:e.1244.6041
SEQUENCE:3
DTSTAMP:20260423T210136Z
URL:https://business.weslaco.com/events/details/golden-easter-eggs-at-valley-nature-center-s-easter-egg-hunt-04-05-2015-6041
END:VEVENT

END:VCALENDAR
