BEGIN:VCALENDAR
VERSION:2.0
PRODID:-//ChamberMaster//Event Calendar 2.0//EN
METHOD:PUBLISH
X-PUBLISHED-TTL:P3D
REFRESH-INTERVAL:P3D
CALSCALE:GREGORIAN
BEGIN:VEVENT
DTSTART:20131212T160000Z
DTEND:20131212T170000Z
X-MICROSOFT-CDO-ALLDAYEVENT:FALSE
SUMMARY:Greater State Bank Ribbon Cutting
DESCRIPTION:
X-ALT-DESC;FMTTYPE=text/html:
LOCATION:
UID:e.1244.4809
SEQUENCE:3
DTSTAMP:20260424T231348Z
URL:https://business.weslaco.com/events/details/greater-state-bank-ribbon-cutting-12-12-2013-4809
END:VEVENT

END:VCALENDAR
