BEGIN:VCALENDAR
VERSION:2.0
PRODID:-//ChamberMaster//Event Calendar 2.0//EN
METHOD:PUBLISH
X-PUBLISHED-TTL:P3D
REFRESH-INTERVAL:P3D
CALSCALE:GREGORIAN
BEGIN:VEVENT
DTSTART:20150815T133000Z
DTEND:20150815T183000Z
X-MICROSOFT-CDO-ALLDAYEVENT:FALSE
SUMMARY:Gulf Coast Eye Institute Back to School Fun Day
DESCRIPTION:Gulf Coast Eye Institute will be having a GREAT back-to-school sale\, along with a community fun day! Kids can get 2 pairs of glasses for $88 - includes select frames and lenses.  Contact lens wearers get 25% off select non-RX sunglasses.  Join them for food\, refreshments and fun!\n\nEyewear sale continues through Sept. 11.
X-ALT-DESC;FMTTYPE=text/html:<p>Gulf Coast Eye Institute will be having a GREAT back-to-school sale\, along with a community fun day! Kids can get 2 pairs of glasses for $88 - includes select frames and lenses. &nbsp\;Contact lens wearers get 25% off select non-RX sunglasses. &nbsp\;Join them for food\, refreshments and fun!<br />\nEyewear sale continues through Sept. 11. &nbsp\;</p>\n
LOCATION:Gulf Coast Eye Institute 1205 Ed Carey Dr. Harlingen\, TX
UID:e.1244.6725
SEQUENCE:3
DTSTAMP:20260423T131721Z
URL:https://business.weslaco.com/events/details/gulf-coast-eye-institute-back-to-school-fun-day-08-15-2015-6725
END:VEVENT

END:VCALENDAR
