BEGIN:VCALENDAR
VERSION:2.0
PRODID:-//ChamberMaster//Event Calendar 2.0//EN
METHOD:PUBLISH
X-PUBLISHED-TTL:P3D
REFRESH-INTERVAL:P3D
CALSCALE:GREGORIAN
BEGIN:VEVENT
DTSTART:20160623T233000Z
DTEND:20160624T023000Z
X-MICROSOFT-CDO-ALLDAYEVENT:FALSE
SUMMARY:Gulf Coast Eye Institute Grand Opening
DESCRIPTION:Celebrate the grand opening of the new Gulf Coast Eye Institute's Weslaco facility.  Enjoy hors d'oeuvres and refreshments\, live music and networking.
X-ALT-DESC;FMTTYPE=text/html:Celebrate the grand opening of the new Gulf Coast Eye Institute&#39\;s Weslaco facility. &nbsp\;Enjoy hors d&#39\;oeuvres and refreshments\, live music and networking.&nbsp\;
LOCATION:1331 E. 6th St. Weslaco\, TX
UID:e.1244.10979
SEQUENCE:3
DTSTAMP:20260422T215319Z
URL:https://business.weslaco.com/events/details/gulf-coast-eye-institute-grand-opening-06-23-2016-10979
END:VEVENT

END:VCALENDAR
