BEGIN:VCALENDAR
VERSION:2.0
PRODID:-//ChamberMaster//Event Calendar 2.0//EN
METHOD:PUBLISH
X-PUBLISHED-TTL:P3D
REFRESH-INTERVAL:P3D
CALSCALE:GREGORIAN
BEGIN:VEVENT
DTSTART:20150812T190000Z
DTEND:20150812T210000Z
X-MICROSOFT-CDO-ALLDAYEVENT:FALSE
SUMMARY:Gulf Coast Eye Institute Laser Cataract Surgery Seminar
DESCRIPTION:Gulf Coast Eye Institute invites you to a Laser Cataract Surgery Seminar.  Learn about the process and enjoy free screenings\, door prizes and refreshments!
X-ALT-DESC;FMTTYPE=text/html:Gulf Coast Eye Institute invites you to a Laser Cataract Surgery Seminar. &nbsp\;Learn about the process and enjoy free screenings\, door prizes and refreshments!
LOCATION:Knapp Medical Conference Center\, Classroom #9 1401 E. Eighth St\, Weslaco\, TX
UID:e.1244.6721
SEQUENCE:3
DTSTAMP:20260423T131759Z
URL:https://business.weslaco.com/events/details/gulf-coast-eye-institute-laser-cataract-surgery-seminar-08-12-2015-6721
END:VEVENT

END:VCALENDAR
