BEGIN:VCALENDAR
VERSION:2.0
PRODID:-//ChamberMaster//Event Calendar 2.0//EN
METHOD:PUBLISH
X-PUBLISHED-TTL:P3D
REFRESH-INTERVAL:P3D
CALSCALE:GREGORIAN
BEGIN:VEVENT
DTSTART:20160802T210000Z
DTEND:20160802T230000Z
X-MICROSOFT-CDO-ALLDAYEVENT:FALSE
SUMMARY:Hacienda Paraiso Ribbon Cutting
DESCRIPTION:Hacienda Paraiso is a place of entertainment for the whole family. With its swimming pools\, wading pools and beautiful landscapes\, it's the perfect place to enjoy a relaxing family day.  Hacienda Paraiso is also available for any social event\, weddings\, ceremonies\, birthdays\, business gatherings\, etc.  Give them a call at 956-533-8349 to book your event today!
X-ALT-DESC;FMTTYPE=text/html:<span style="background-image:initial\;background-attachment:initial\;background-size:initial\;background-origin:initial\;background-clip:initial\;background-position:initial\;background-repeat:initial\;"><span style="color:#1d2129\;">Hacienda Paraiso is a place of entertainment for the whole family. With its swimming pools\, wading pools and beautiful landscapes\, it&rsquo\;s the perfect place to enjoy a relaxing family day. &nbsp\;Hacienda Paraiso is also available for any social event\, weddings\, ceremonies\, birthdays\, business gatherings\, etc.&nbsp\; Give them a call at 956-533-8349 to book your event today!</span></span>
LOCATION:17229 N. FM 88 Weslaco\, TX
UID:e.1244.10992
SEQUENCE:3
DTSTAMP:20260422T195932Z
URL:https://business.weslaco.com/events/details/hacienda-paraiso-ribbon-cutting-08-02-2016-10992
END:VEVENT

END:VCALENDAR
