BEGIN:VCALENDAR
VERSION:2.0
PRODID:-//ChamberMaster//Event Calendar 2.0//EN
METHOD:PUBLISH
X-PUBLISHED-TTL:P3D
REFRESH-INTERVAL:P3D
CALSCALE:GREGORIAN
BEGIN:VEVENT
DTSTART:20131026T190000Z
DTEND:20131026T210000Z
X-MICROSOFT-CDO-ALLDAYEVENT:FALSE
SUMMARY:Halloween Family Bash at VNC
DESCRIPTION:Enjoy a Halloween family fun day at Valley Nature Center! Costume contests\, crafts\, treats and photo booth!
X-ALT-DESC;FMTTYPE=text/html:Enjoy a Halloween family fun day at Valley Nature Center! Costume contests\, crafts\, treats and photo booth!
LOCATION:301 S. Border
UID:e.1244.4785
SEQUENCE:3
DTSTAMP:20260425T023322Z
URL:https://business.weslaco.com/events/details/halloween-family-bash-at-vnc-10-26-2013-4785
END:VEVENT

END:VCALENDAR
