BEGIN:VCALENDAR
VERSION:2.0
PRODID:-//ChamberMaster//Event Calendar 2.0//EN
METHOD:PUBLISH
X-PUBLISHED-TTL:P3D
REFRESH-INTERVAL:P3D
CALSCALE:GREGORIAN
BEGIN:VEVENT
DTSTART:20141109T010000Z
DTEND:20141109T040000Z
X-MICROSOFT-CDO-ALLDAYEVENT:FALSE
SUMMARY:Harvest Fest-Brew In The Woods At the Valley Nature Center
DESCRIPTION:Come sample a virtual cornucopia of different beer and wine paired with good food and great people! Silent Auction and raffles will be held during this event\, in addition to live music.
X-ALT-DESC;FMTTYPE=text/html:Come sample a virtual cornucopia of different beer and wine paired with good food and great people! Silent Auction and raffles will be held during this event\, in addition to live music.<br />\n&nbsp\;
LOCATION:301 South Border Ave Weslaco\, TX 78596
UID:e.1244.5957
SEQUENCE:3
DTSTAMP:20260424T034451Z
URL:https://business.weslaco.com/events/details/harvest-fest-brew-in-the-woods-at-the-valley-nature-center-11-08-2014-5957
END:VEVENT

END:VCALENDAR
