BEGIN:VCALENDAR
VERSION:2.0
PRODID:-//ChamberMaster//Event Calendar 2.0//EN
METHOD:PUBLISH
X-PUBLISHED-TTL:P3D
REFRESH-INTERVAL:P3D
CALSCALE:GREGORIAN
BEGIN:VEVENT
DTSTART:20170830T223000Z
DTEND:20170830T233000Z
X-MICROSOFT-CDO-ALLDAYEVENT:FALSE
SUMMARY:Health Plus Pharmacy and DME Ribbon Cutting
DESCRIPTION:
X-ALT-DESC;FMTTYPE=text/html:
LOCATION:910 E. 8th St\, Ste. 11
UID:e.1244.14388
SEQUENCE:3
DTSTAMP:20260421T221004Z
URL:https://business.weslaco.com/events/details/health-plus-pharmacy-and-dme-ribbon-cutting-14388
END:VEVENT

END:VCALENDAR
