BEGIN:VCALENDAR
VERSION:2.0
PRODID:-//ChamberMaster//Event Calendar 2.0//EN
METHOD:PUBLISH
X-PUBLISHED-TTL:P3D
REFRESH-INTERVAL:P3D
CALSCALE:GREGORIAN
BEGIN:VEVENT
DTSTART:20160712T163000Z
DTEND:20160712T180000Z
X-MICROSOFT-CDO-ALLDAYEVENT:FALSE
SUMMARY:Healthcare in the RGV Seminar sponsored by DHR
DESCRIPTION:The Weslaco Chamber of Commerce will host a forum on Healthcare in the RGV on Tuesday\, July 12 from 11:30 am to 1 pm.  Sponsored by Doctors Hospital at Renaissance\, the forum will provide an update on the UTRGV School of Medicine as well as the latest information on efforts to establish a healthy Hidalgo County through the creation of a healthcare district.  Speakers will be announced at a later date.  Seating is limited\, so please call 968-2102 to reserve your seat.
X-ALT-DESC;FMTTYPE=text/html:The Weslaco Chamber of Commerce will host a forum on Healthcare in the RGV on Tuesday\, July 12 from 11:30 am to 1 pm.&nbsp\; Sponsored by Doctors Hospital at Renaissance\, the forum will provide an update on the UTRGV School of Medicine as well as the latest information on efforts to establish a healthy Hidalgo County through the creation of a healthcare district.&nbsp\; Speakers will be announced at a later date. &nbsp\;Seating is limited\, so please call 968-2102 to reserve your seat.&nbsp\;&nbsp\;
LOCATION:Business Visitor & Event Center 275 S. Kansas\, Weslaco
UID:e.1244.10983
SEQUENCE:3
DTSTAMP:20260422T202001Z
URL:https://business.weslaco.com/events/details/healthcare-in-the-rgv-seminar-sponsored-by-dhr-07-12-2016-10983
END:VEVENT

END:VCALENDAR
