BEGIN:VCALENDAR
VERSION:2.0
PRODID:-//ChamberMaster//Event Calendar 2.0//EN
METHOD:PUBLISH
X-PUBLISHED-TTL:P3D
REFRESH-INTERVAL:P3D
CALSCALE:GREGORIAN
BEGIN:VEVENT
DTSTART:20170810T220000Z
DTEND:20170810T230000Z
X-MICROSOFT-CDO-ALLDAYEVENT:FALSE
SUMMARY:Hector G. Amaya\, MD\, PA Ribbon Cutting Ceremony
DESCRIPTION:
X-ALT-DESC;FMTTYPE=text/html:
LOCATION:
UID:e.1244.12753
SEQUENCE:3
DTSTAMP:20260421T221003Z
URL:https://business.weslaco.com/events/details/hector-g-amaya-md-pa-ribbon-cutting-ceremony-12753
END:VEVENT

END:VCALENDAR
