BEGIN:VCALENDAR
VERSION:2.0
PRODID:-//ChamberMaster//Event Calendar 2.0//EN
METHOD:PUBLISH
X-PUBLISHED-TTL:P3D
REFRESH-INTERVAL:P3D
CALSCALE:GREGORIAN
BEGIN:VEVENT
DTSTART:20190629T163000Z
DTEND:20190629T183000Z
X-MICROSOFT-CDO-ALLDAYEVENT:FALSE
SUMMARY:Here Come the Brides Luncheon and Style Show 2019
DESCRIPTION:Attendees will be treated to a catered lunch including an entree\, salad\, beverage\, wedding cake and coffee. Bucket auction will also be held! Tickets are $25 and available at the museum.\n\n\n\nStyle show by Lionel's Western Wear & Boutique\, Wells of Weslaco and Cisneros Fine Jewelry
X-ALT-DESC;FMTTYPE=text/html:<span class="_4n-j _3cht fsl" data-testid="event-permalink-details">Attendees will be treated to a catered lunch including an entree\, salad\, beverage\, wedding cake and coffee. Bucket auction will also be held! Tickets are $25 and available at the museum.<br />\n<br />\nStyle show by Lionel&#39\;s Western Wear &amp\; Boutique\, Wells of Weslaco and Cisneros Fine Jewelry</span><br />\n<br />\n&nbsp\;
LOCATION:Weslaco Museum 500 S. Texas
UID:e.1244.18652
SEQUENCE:3
DTSTAMP:20260420T094258Z
URL:https://business.weslaco.com/events/details/here-come-the-brides-luncheon-and-style-show-2019-18652
END:VEVENT

END:VCALENDAR
