BEGIN:VCALENDAR
VERSION:2.0
PRODID:-//ChamberMaster//Event Calendar 2.0//EN
METHOD:PUBLISH
X-PUBLISHED-TTL:P3D
REFRESH-INTERVAL:P3D
CALSCALE:GREGORIAN
BEGIN:VEVENT
DTSTART;VALUE=DATE:20210227
DTEND;VALUE=DATE:20210228
TRANSP:TRANSPARENT
X-MICROSOFT-CDO-ALLDAYEVENT:TRUE
SUMMARY:Heroes with Heart 5k
DESCRIPTION:To commemorate American Heart Month and promote heart-healthy behaviors\, South Texas Health System Heart\, the Valley's only freestanding cardiac hospital and heart emergency center\, invites you to take part in our Heroes with Heart 5K Run & Walk.\n\n \n\nTaking place virtually this year due to the ongoing coronavirus pandemic\, this year's event is dedicated to the Valley's own Heroes with Heart\, our first responders\, law enforcement officers and healthcare heroes who've survived and thrived in their battle with heart disease by adopting heart-healthy behaviors and more.\n\nSaturday\, February 27\, 2021.\n\n \n\nRun/walk at you own pace at one of our designated locations or blaze your own trail. Start and end anytime. And share your thoughts\, stories and run photos/videos with us by using the hashtag #STHSHeroeswithHeart.\n\n \n\n5k Run/Walk Registration Fee (includes t-shirt\, medal and bib):\n\nEarly Registration (Before 2/10): $30 \n\nLate Registration (After 2/10): $35 \n\nGroup pricing available\, please contact us.\n\nAll proceeds will benefit charities as designated by our Heroes with Heart ambassadors.\n\n \n\nRegister and pay online at www.sthsactive.com\n\nFor more information\, please contact the race coordinator\, Kassandra Rodriguez\, at (956) 388-2033 or Kassandra.Rodriguez@uhsrgv.com.
X-ALT-DESC;FMTTYPE=text/html:<span style="color:black\;"><span style="font-family:cambria\,serif\;"><span style="font-size:12.0pt\;">To commemorate American Heart Month and promote heart-healthy behaviors\, South Texas Health System Heart\, the Valley&rsquo\;s only freestanding cardiac hospital and heart emergency center\, invites you to take part in our Heroes with Heart 5K Run &amp\; Walk.</span></span></span><br />\n&nbsp\;<br />\n<span style="color:black\;"><span style="font-family:cambria\,serif\;"><span style="font-size:12.0pt\;">Taking place virtually this year due to the ongoing coronavirus pandemic\, this year&rsquo\;s event is dedicated to the Valley&rsquo\;s own Heroes with Heart\, our first responders\, law enforcement officers and healthcare heroes who&rsquo\;ve survived and thrived in their battle with heart disease by adopting heart-healthy behaviors and more.</span></span></span><br />\n<span style="color:black\;"><span style="font-family:cambria\,serif\;"><span style="font-size:12.0pt\;">Saturday\, February 27\, 2021.</span></span></span><br />\n&nbsp\;<br />\n<span style="color:black\;"><span style="font-family:cambria\,serif\;"><span style="font-size:12.0pt\;">Run/walk at you own pace at one of our designated locations or blaze your own trail. Start and end anytime. And share your thoughts\, stories and run photos/videos with us by using the hashtag #STHSHeroeswithHeart.</span></span></span><br />\n&nbsp\;<br />\n<span style="color:black\;"><span style="font-family:cambria\,serif\;"><span style="font-size:12.0pt\;">5k Run/Walk Registration Fee (includes t-shirt\, medal and bib):</span></span></span><br />\n<span style="color:black\;"><span style="font-family:cambria\,serif\;"><span style="font-size:12.0pt\;">Early Registration (Before 2/10): $30&nbsp\;</span></span></span><br />\n<span style="color:black\;"><span style="font-family:cambria\,serif\;"><span style="font-size:12.0pt\;">Late Registration (After 2/10): $35&nbsp\;</span></span></span><br />\n<span style="color:black\;"><span style="font-family:cambria\,serif\;"><span style="font-size:12.0pt\;">Group pricing available\, please contact us.</span></span></span><br />\n<span style="color:black\;"><span style="font-family:cambria\,serif\;"><span style="font-size:12.0pt\;">All proceeds will benefit charities as designated by our Heroes with Heart ambassadors.</span></span></span><br />\n&nbsp\;<br />\n<span style="color:black\;"><span style="font-family:cambria\,serif\;"><span style="font-size:12.0pt\;">Register and pay online at <a href="http://www.sthsactive.com">www.sthsactive.com</a></span></span></span><br />\n<span style="color:black\;"><span style="font-family:cambria\,serif\;"><span style="font-size:12.0pt\;">For more information\, please contact the race coordinator\, Kassandra Rodriguez\, at (956) 388-2033 or <a href="mailto:Kassandra.Rodriguez@uhsrgv.com">Kassandra.Rodriguez@uhsrgv.com</a>.</span></span></span>
LOCATION:
UID:e.1244.19548
SEQUENCE:3
DTSTAMP:20260422T182103Z
URL:https://business.weslaco.com/events/details/heroes-with-heart-5k-19548
END:VEVENT

END:VCALENDAR
