BEGIN:VCALENDAR
VERSION:2.0
PRODID:-//ChamberMaster//Event Calendar 2.0//EN
METHOD:PUBLISH
X-PUBLISHED-TTL:P3D
REFRESH-INTERVAL:P3D
CALSCALE:GREGORIAN
BEGIN:VEVENT
DTSTART:20151006T000000Z
DTEND:20151006T030000Z
X-MICROSOFT-CDO-ALLDAYEVENT:FALSE
SUMMARY:Hispanic Medal of Honor Exhibit at STC Mid Valley
DESCRIPTION:South Texas College invites everyone to come celebrate National Hispanic Heritage Month at our Mid Valley Campus in Weslaco.  We are proud to be the first in the state of Texas to host the new Hispanic Medal of Honor Society's exhibit. The exhibit honors the contributions of those of Hispanic descent who are recipients of our nation's highest honor\, including Jose Lopez\, Pedro Cano\, and Alfredo Freddy Gonzalez from the Rio Grande Valley.  \nThe exhibit is currently on display at the Pentagon in Washington D.C. and will ship directly to South Texas College. We invite students\, veteran's organizations\, and community to come visit the exhibit.\n\nThe Hispanic Medal of Honor exhibit will be at the Mid Valley Campus from October 5   9\, 2015\, with the opening reception scheduled for Monday\, October 5th at 7:00PM at the Lecture Hall G191.
X-ALT-DESC;FMTTYPE=text/html:<p><span style="font-size:14px\;">South Texas College invites everyone to come celebrate National Hispanic Heritage Month at our Mid Valley Campus in Weslaco. &nbsp\;We are proud to be the first in the state of Texas to host the new Hispanic Medal of Honor Society&rsquo\;s exhibit. The exhibit honors the contributions of those of Hispanic descent who are recipients of our nation&rsquo\;s highest honor\, including Jose Lopez\, Pedro Cano\, and Alfredo Freddy Gonzalez from the Rio Grande Valley. &nbsp\;</span></p>\n<span style="font-size:14px\;">The exhibit is currently on display at the Pentagon in Washington D.C. and will ship directly to South Texas College. We invite students\, veteran&rsquo\;s organizations\, and community to come visit the exhibit.<br />\nThe Hispanic Medal of Honor exhibit will be at the Mid Valley Campus from October 5 &ndash\; 9\, 2015\, with the opening reception scheduled for Monday\, October 5th at 7:00PM at the Lecture Hall G191.</span><br />\n&nbsp\;
LOCATION:STC Mid Valley 400 N. Border Weslaco\, TX
UID:e.1244.8744
SEQUENCE:3
DTSTAMP:20260423T100027Z
URL:https://business.weslaco.com/events/details/hispanic-medal-of-honor-exhibit-at-stc-mid-valley-10-05-2015-8744
END:VEVENT

END:VCALENDAR
