BEGIN:VCALENDAR
VERSION:2.0
PRODID:-//ChamberMaster//Event Calendar 2.0//EN
METHOD:PUBLISH
X-PUBLISHED-TTL:P3D
REFRESH-INTERVAL:P3D
CALSCALE:GREGORIAN
BEGIN:VEVENT
DTSTART:20151107T200000Z
DTEND:20151107T210000Z
X-MICROSOFT-CDO-ALLDAYEVENT:FALSE
SUMMARY:"History of the Barrio" presented by Mayor Joe V. Sanchez
DESCRIPTION:Joe V. Sanchez\, Mayor\, Author and Historian\, presents "History of the Barrio" at Braught Memorial Theater.  Free and open to the public.  Light refreshments will be served.
X-ALT-DESC;FMTTYPE=text/html:Joe V. Sanchez\, Mayor\, Author and Historian\, presents &quot\;History of the Barrio&quot\; at Braught Memorial Theater. &nbsp\;Free and open to the public. &nbsp\;Light refreshments will be served.&nbsp\;
LOCATION:Braught Memorial Theater 525 S. Kansas Ave.
UID:e.1244.8762
SEQUENCE:3
DTSTAMP:20260423T084558Z
URL:https://business.weslaco.com/events/details/history-of-the-barrio-presented-by-mayor-joe-v-sanchez-11-07-2015-8762
END:VEVENT

END:VCALENDAR
