BEGIN:VCALENDAR
VERSION:2.0
PRODID:-//ChamberMaster//Event Calendar 2.0//EN
METHOD:PUBLISH
X-PUBLISHED-TTL:P3D
REFRESH-INTERVAL:P3D
CALSCALE:GREGORIAN
BEGIN:VEVENT
DTSTART:20131221T190000Z
DTEND:20131221T230000Z
X-MICROSOFT-CDO-ALLDAYEVENT:FALSE
SUMMARY:HO HO HO Holiday Party!! At the Valley Nature Center
DESCRIPTION:T'will be days just before Christmas and what will you see?\n\nA holiday party at VNC!\n\nStory time and Santa complete with an elf crew.\n\nYou can count on hot chocolate\, cookies\, and candy canes too!\n\nWe'll end a good day with song and cheer\n\nto celebrate this very special time of year!
X-ALT-DESC;FMTTYPE=text/html:T&#39\;will be days just before Christmas and what will you see?<br />\nA holiday party at VNC!<br />\nStory time and Santa complete with an elf crew.<br />\nYou can count on hot chocolate\, cookies\, and candy canes too!<br />\nWe&#39\;ll end a good day with song and cheer<br />\nto celebrate this very special time of year!
LOCATION:301 South Border Ave. Weslaco Tx 78596
UID:e.1244.4807
SEQUENCE:3
DTSTAMP:20260424T232025Z
URL:https://business.weslaco.com/events/details/ho-ho-ho-holiday-party-at-the-valley-nature-center-12-21-2013-4807
END:VEVENT

END:VCALENDAR
