BEGIN:VCALENDAR
VERSION:2.0
PRODID:-//ChamberMaster//Event Calendar 2.0//EN
METHOD:PUBLISH
X-PUBLISHED-TTL:P3D
REFRESH-INTERVAL:P3D
CALSCALE:GREGORIAN
BEGIN:VEVENT
DTSTART:20171217T190000Z
DTEND:20171217T220000Z
X-MICROSOFT-CDO-ALLDAYEVENT:FALSE
SUMMARY:Ho Ho Ho! Holiday Party at the Valley Nature Center
DESCRIPTION:Join us for a Holiday Celebration! Have your picture taken with Santa\, Munch on Christmas cookies\, Sip some Hot Chocolate & Enjoy a Christmas movie!
X-ALT-DESC;FMTTYPE=text/html:Join us for a Holiday Celebration! Have your picture taken with Santa\, Munch on Christmas cookies\, Sip some Hot Chocolate &amp\; Enjoy a Christmas movie!
LOCATION:Valley Nature Center 301 South Border Avenue Weslaco\, Texas 78596
UID:e.1244.14440
SEQUENCE:3
DTSTAMP:20260421T160708Z
URL:https://business.weslaco.com/events/details/ho-ho-ho-holiday-party-at-the-valley-nature-center-14440
END:VEVENT

END:VCALENDAR
