BEGIN:VCALENDAR
VERSION:2.0
PRODID:-//ChamberMaster//Event Calendar 2.0//EN
METHOD:PUBLISH
X-PUBLISHED-TTL:P3D
REFRESH-INTERVAL:P3D
CALSCALE:GREGORIAN
BEGIN:VEVENT
DTSTART:20191215T190000Z
DTEND:20191215T220000Z
X-MICROSOFT-CDO-ALLDAYEVENT:FALSE
SUMMARY:HO HO HO Holiday Party!! At the Valley Nature Center
DESCRIPTION:Meet Santa and take a picture\n\nChristmas movie\n\nHot chocolate\n\nChildren's craft\n\nCookies\n\nPopcorn
X-ALT-DESC;FMTTYPE=text/html:Meet Santa and take a picture<br />\nChristmas movie<br />\nHot chocolate<br />\nChildren&#39\;s craft<br />\nCookies<br />\nPopcorn
LOCATION:301 South Border Ave. Weslaco Tx 78596
UID:e.1244.18840
SEQUENCE:3
DTSTAMP:20260419T234534Z
URL:https://business.weslaco.com/events/details/ho-ho-ho-holiday-party-at-the-valley-nature-center-18840
END:VEVENT

END:VCALENDAR
